BEGIN:VCALENDAR
VERSION:2.0
PRODID:-//Kino Tuškanac//Filmski programi//HR
BEGIN:VEVENT
UID:62ca45480791270982d01c4cfc8ae64a@kinotuskanac.hr
DTSTAMP:20260425T020059Z
DTSTART:20171104T110000
DTEND:20171104T130000
SUMMARY:Pat i Mat na filmu
LOCATION:Kino Tuškanac
DESCRIPTION:Pat a Mat ve filmu, Češka, 2016 R: Marek Beneš
END:VEVENT
END:VCALENDAR