BEGIN:VCALENDAR
VERSION:2.0
PRODID:-//Kino Tuškanac//Filmski programi//HR
BEGIN:VEVENT
UID:95ea8d42f70db03f69c531fe214f491f@kinotuskanac.hr
DTSTAMP:20260420T191257Z
DTSTART:20041207T210000
DTEND:20041207T230000
SUMMARY:Noćni vlak
LOCATION:Kino Tuškanac
DESCRIPTION:Pociag, 1959 R: Jerzy Kawalerowicz
END:VEVENT
END:VCALENDAR