BEGIN:VCALENDAR
VERSION:2.0
PRODID:-//Kino Tuškanac//Filmski programi//HR
BEGIN:VEVENT
UID:a6194b0bc271d74446f25b410403fc31@kinotuskanac.hr
DTSTAMP:20260423T090334Z
DTSTART:20171130T170000
DTEND:20171130T190000
SUMMARY:Trst, Jugoslavija
LOCATION:Kino Tuškanac
DESCRIPTION:Trieste, Yugoslavia, Italija, Hrvatska, Bosna i Hercegovina, 2017 R: Alessio Bozzer
END:VEVENT
END:VCALENDAR