BEGIN:VCALENDAR
VERSION:2.0
PRODID:-//Kino Tuškanac//Filmski programi//HR
BEGIN:VEVENT
UID:a1bc39f22f5a434d7540117c521320e8@kinotuskanac.hr
DTSTAMP:20260423T085700Z
DTSTART:20171207T170000
DTEND:20171207T190000
SUMMARY:Trst, Jugoslavija
LOCATION:Kino Tuškanac
DESCRIPTION:Trieste, Yugoslavia, Italija, Hrvatska, Bosna i Hercegovina, 2017 R: Alessio Bozzer
END:VEVENT
END:VCALENDAR