BEGIN:VCALENDAR
VERSION:2.0
PRODID:-//Kino Tuškanac//Filmski programi//HR
BEGIN:VEVENT
UID:13b5cae5f1088a03883955bf871138d7@kinotuskanac.hr
DTSTAMP:20260425T031347Z
DTSTART:20171216T190000
DTEND:20171216T210000
SUMMARY:Tko pjeva zlo ne misli
LOCATION:Kino Tuškanac
DESCRIPTION:Hrvatska, 1970 | Mjesto prikazivanja filma: Studio-galerija KLET (Ilica 73) R: Krešo Golik
END:VEVENT
END:VCALENDAR