BEGIN:VCALENDAR
VERSION:2.0
PRODID:-//Kino Tuškanac//Filmski programi//HR
BEGIN:VEVENT
UID:db0f241d45fda3f25b7ab60dd242c987@kinotuskanac.hr
DTSTAMP:20260423T045231Z
DTSTART:20171129T190000
DTEND:20171129T210000
SUMMARY:Tišina (2016)
LOCATION:Kino Tuškanac
DESCRIPTION:Halumim, Izrael, 2016 R: Erez Mizrahi
END:VEVENT
END:VCALENDAR