BEGIN:VCALENDAR
VERSION:2.0
PRODID:-//Kino Tuškanac//Filmski programi//HR
BEGIN:VEVENT
UID:9a6fca225588c0a439858b74a958e211@kinotuskanac.hr
DTSTAMP:20260423T135208Z
DTSTART:20171202T210000
DTEND:20171202T230000
SUMMARY:Prošli život
LOCATION:Kino Tuškanac
DESCRIPTION:Past Life, Izrael, 2016 R: Avi Nesher
END:VEVENT
END:VCALENDAR