BEGIN:VCALENDAR
VERSION:2.0
PRODID:-//Kino Tuškanac//Filmski programi//HR
BEGIN:VEVENT
UID:0fd548a060d0593d53177f5c48bc169e@kinotuskanac.hr
DTSTAMP:20260423T175533Z
DTSTART:20171203T190000
DTEND:20171203T210000
SUMMARY:Svjedočanstvo
LOCATION:Kino Tuškanac
DESCRIPTION:Ha'Edut, 2017 R: Amichai Greenberg
END:VEVENT
END:VCALENDAR