BEGIN:VCALENDAR
VERSION:2.0
PRODID:-//Kino Tuškanac//Filmski programi//HR
BEGIN:VEVENT
UID:3797a159ec4d9a2e36f5904e8c5e001c@kinotuskanac.hr
DTSTAMP:20260420T160656Z
DTSTART:20041216T190000
DTEND:20041216T210000
SUMMARY:Kanal
LOCATION:Kino Tuškanac
DESCRIPTION:Poljska, 1957 | Mjesto prikazivanja filma: Kino Forum (SD Stjepan Radić, Jarunska ul. 2) R: Andrzej Wajda
END:VEVENT
END:VCALENDAR