BEGIN:VCALENDAR
VERSION:2.0
PRODID:-//Kino Tuškanac//Filmski programi//HR
BEGIN:VEVENT
UID:2c25e8d570ed9ad1a9accddfc0a03264@kinotuskanac.hr
DTSTAMP:20260424T212543Z
DTSTART:20171211T210000
DTEND:20171211T230000
SUMMARY:Staklena menažerija
LOCATION:Kino Tuškanac
DESCRIPTION:The Glass Menagerie, SAD, 1950 R: Irving Rapper
END:VEVENT
END:VCALENDAR