BEGIN:VCALENDAR
VERSION:2.0
PRODID:-//Kino Tuškanac//Filmski programi//HR
BEGIN:VEVENT
UID:3afaeed7a232bee63d99800e458aa6e7@kinotuskanac.hr
DTSTAMP:20260424T212445Z
DTSTART:20171223T170000
DTEND:20171223T190000
SUMMARY:Staklena menažerija
LOCATION:Kino Tuškanac
DESCRIPTION:The Glass Menagerie, SAD, 1950 R: Irving Rapper
END:VEVENT
END:VCALENDAR