BEGIN:VCALENDAR
VERSION:2.0
PRODID:-//Kino Tuškanac//Filmski programi//HR
BEGIN:VEVENT
UID:966f5ec83280a609e322af48600226dd@kinotuskanac.hr
DTSTAMP:20260420T115805Z
DTSTART:20171219T170000
DTEND:20171219T190000
SUMMARY:Odisej
LOCATION:Kino Tuškanac
DESCRIPTION:L'Odyssée, Francuska, 2016 R: Jérôme Salle
END:VEVENT
END:VCALENDAR