BEGIN:VCALENDAR
VERSION:2.0
PRODID:-//Kino Tuškanac//Filmski programi//HR
BEGIN:VEVENT
UID:1eb13d36ea68bf8a704bc98cef0ac47e@kinotuskanac.hr
DTSTAMP:20260420T115812Z
DTSTART:20171220T170000
DTEND:20171220T190000
SUMMARY:Odisej
LOCATION:Kino Tuškanac
DESCRIPTION:L'Odyssée, Francuska, 2016 R: Jérôme Salle
END:VEVENT
END:VCALENDAR