BEGIN:VCALENDAR
VERSION:2.0
PRODID:-//Kino Tuškanac//Filmski programi//HR
BEGIN:VEVENT
UID:048bd54debc4787616e1a4213db316f2@kinotuskanac.hr
DTSTAMP:20260420T115805Z
DTSTART:20171222T170000
DTEND:20171222T190000
SUMMARY:Odisej
LOCATION:Kino Tuškanac
DESCRIPTION:L'Odyssée, Francuska, 2016 R: Jérôme Salle
END:VEVENT
END:VCALENDAR