BEGIN:VCALENDAR
VERSION:2.0
PRODID:-//Kino Tuškanac//Filmski programi//HR
BEGIN:VEVENT
UID:542696143a880fa27b7560d75dea46a2@kinotuskanac.hr
DTSTAMP:20260420T210658Z
DTSTART:20041111T211500
DTEND:20041111T231500
SUMMARY:Ciganska duša
LOCATION:Kino Tuškanac
DESCRIPTION:Alma gitana, 1995 R: Chus Guitérrez
END:VEVENT
END:VCALENDAR