BEGIN:VCALENDAR
VERSION:2.0
PRODID:-//Kino Tuškanac//Filmski programi//HR
BEGIN:VEVENT
UID:43d3884fa857a87ef77ae300da0447ba@kinotuskanac.hr
DTSTAMP:20260424T051942Z
DTSTART:20180116T190000
DTEND:20180116T210000
SUMMARY:Otac (2015)
LOCATION:Kino Tuškanac
DESCRIPTION:Babai, Njemačka, Kosovo, Makedonija, Francuska, 2015 R: Visar Morina
END:VEVENT
END:VCALENDAR