BEGIN:VCALENDAR
VERSION:2.0
PRODID:-//Kino Tuškanac//Filmski programi//HR
BEGIN:VEVENT
UID:902d5b41759a9ed85ec33925d0e5e202@kinotuskanac.hr
DTSTAMP:20260424T051819Z
DTSTART:20180123T190000
DTEND:20180123T210000
SUMMARY:Otac (2015)
LOCATION:Kino Tuškanac
DESCRIPTION:Babai, Njemačka, Kosovo, Makedonija, Francuska, 2015 R: Visar Morina
END:VEVENT
END:VCALENDAR