BEGIN:VCALENDAR
VERSION:2.0
PRODID:-//Kino Tuškanac//Filmski programi//HR
BEGIN:VEVENT
UID:8220ba26f9ece03f3f7a647bd3e3181f@kinotuskanac.hr
DTSTAMP:20260422T170553Z
DTSTART:20180118T190000
DTEND:20180118T210000
SUMMARY:Who am I – Nijedan sustav nije siguran
LOCATION:Kino Tuškanac
DESCRIPTION:Who am I – Kein System ist sicher, Njemačka, 2014 R: Baran bo Odar
END:VEVENT
END:VCALENDAR