BEGIN:VCALENDAR
VERSION:2.0
PRODID:-//Kino Tuškanac//Filmski programi//HR
BEGIN:VEVENT
UID:cc4c57a7c966a0ed29c53a8d5afcdc23@kinotuskanac.hr
DTSTAMP:20260422T171053Z
DTSTART:20180125T190000
DTEND:20180125T210000
SUMMARY:Who am I – Nijedan sustav nije siguran
LOCATION:Kino Tuškanac
DESCRIPTION:Who am I – Kein System ist sicher, Njemačka, 2014 R: Baran bo Odar
END:VEVENT
END:VCALENDAR