BEGIN:VCALENDAR
VERSION:2.0
PRODID:-//Kino Tuškanac//Filmski programi//HR
BEGIN:VEVENT
UID:9337269aa0cd0574ae1c34af05687c29@kinotuskanac.hr
DTSTAMP:20260421T093006Z
DTSTART:20041113T191500
DTEND:20041113T211500
SUMMARY:Nadie hablará de nosotras cuando hayamos muerto
LOCATION:Kino Tuškanac
DESCRIPTION:1995 R: Augustin Díaz - Yanes
END:VEVENT
END:VCALENDAR