BEGIN:VCALENDAR
VERSION:2.0
PRODID:-//Kino Tuškanac//Filmski programi//HR
BEGIN:VEVENT
UID:c69bff9caa8d895e47714c237699aca1@kinotuskanac.hr
DTSTAMP:20260420T033153Z
DTSTART:20180116T180000
DTEND:20180116T200000
SUMMARY:Žena na pijesku
LOCATION:Kino Tuškanac
DESCRIPTION:Suna no onna, Japan, 1964 R: Hiroshi Teshigahara
END:VEVENT
END:VCALENDAR