BEGIN:VCALENDAR
VERSION:2.0
PRODID:-//Kino Tuškanac//Filmski programi//HR
BEGIN:VEVENT
UID:694eaf0928e2f50185dea2774cb17fed@kinotuskanac.hr
DTSTAMP:20260420T191321Z
DTSTART:20041102T210000
DTEND:20041102T230000
SUMMARY:Igra (1968)
LOCATION:Kino Tuškanac
DESCRIPTION:Gra, 1968 R: Jerzy Kawalerowicz
END:VEVENT
END:VCALENDAR