BEGIN:VCALENDAR
VERSION:2.0
PRODID:-//Kino Tuškanac//Filmski programi//HR
BEGIN:VEVENT
UID:02cd917ed1b193dfb16705b93d3b8cca@kinotuskanac.hr
DTSTAMP:20260419T141646Z
DTSTART:20180211T190000
DTEND:20180211T210000
SUMMARY:Glembajevi
LOCATION:Kino Tuškanac
DESCRIPTION:Hrvatska, 1988 R: Antun Vrdoljak
END:VEVENT
END:VCALENDAR