BEGIN:VCALENDAR
VERSION:2.0
PRODID:-//Kino Tuškanac//Filmski programi//HR
BEGIN:VEVENT
UID:183a338a4c5c3728358192653e007a59@kinotuskanac.hr
DTSTAMP:20260419T154436Z
DTSTART:20180206T180000
DTEND:20180206T200000
SUMMARY:Put (1982)
LOCATION:Kino Tuškanac
DESCRIPTION:Yol, Turska, 1982 R: Yilmaz Güney, Şerif Gören
END:VEVENT
END:VCALENDAR