BEGIN:VCALENDAR
VERSION:2.0
PRODID:-//Kino Tuškanac//Filmski programi//HR
BEGIN:VEVENT
UID:2fa1aaf2a55ad16dd412013e6e3aafb4@kinotuskanac.hr
DTSTAMP:20260420T115308Z
DTSTART:20180213T190000
DTEND:20180213T210000
SUMMARY:Čin smaknuća
LOCATION:Kino Tuškanac
DESCRIPTION:The Act of Killing, Danska, 2012 R: Joshua Oppenheimer
END:VEVENT
END:VCALENDAR