BEGIN:VCALENDAR
VERSION:2.0
PRODID:-//Kino Tuškanac//Filmski programi//HR
BEGIN:VEVENT
UID:ba2ccba438404cdb5c85e11593c75aa5@kinotuskanac.hr
DTSTAMP:20260420T091640Z
DTSTART:20180213T211500
DTEND:20180213T231500
SUMMARY:Pogled tišine
LOCATION:Kino Tuškanac
DESCRIPTION:The Look of Silence, Danska, 2014 R: Joshua Oppenheimer
END:VEVENT
END:VCALENDAR