BEGIN:VCALENDAR
VERSION:2.0
PRODID:-//Kino Tuškanac//Filmski programi//HR
BEGIN:VEVENT
UID:04db9efe62076f1f0cf0531583edfa2f@kinotuskanac.hr
DTSTAMP:20260419T225443Z
DTSTART:20180215T210000
DTEND:20180215T230000
SUMMARY:Lisabonska priča
LOCATION:Kino Tuškanac
DESCRIPTION:Lisbon Story, 1994 R: Wim Wenders
END:VEVENT
END:VCALENDAR