BEGIN:VCALENDAR
VERSION:2.0
PRODID:-//Kino Tuškanac//Filmski programi//HR
BEGIN:VEVENT
UID:c3feccde8c7953c641a39d8ac41f2d8c@kinotuskanac.hr
DTSTAMP:20260419T225443Z
DTSTART:20180216T190000
DTEND:20180216T210000
SUMMARY:Lisabonska priča
LOCATION:Kino Tuškanac
DESCRIPTION:Lisbon Story, 1994 R: Wim Wenders
END:VEVENT
END:VCALENDAR