BEGIN:VCALENDAR
VERSION:2.0
PRODID:-//Kino Tuškanac//Filmski programi//HR
BEGIN:VEVENT
UID:5533ec2fc8b41f34fa62ef8df6dfdc04@kinotuskanac.hr
DTSTAMP:20260420T200411Z
DTSTART:20180221T183000
DTEND:20180221T203000
SUMMARY:Američki prijatelj
LOCATION:Kino Tuškanac
DESCRIPTION:Der amerikanische Freund, 1977 R: Wim Wenders
END:VEVENT
END:VCALENDAR