BEGIN:VCALENDAR
VERSION:2.0
PRODID:-//Kino Tuškanac//Filmski programi//HR
BEGIN:VEVENT
UID:404a493405b0ce8fde0caa90a2aa747f@kinotuskanac.hr
DTSTAMP:20260420T200421Z
DTSTART:20180222T210000
DTEND:20180222T230000
SUMMARY:Američki prijatelj
LOCATION:Kino Tuškanac
DESCRIPTION:Der amerikanische Freund, 1977 R: Wim Wenders
END:VEVENT
END:VCALENDAR