BEGIN:VCALENDAR
VERSION:2.0
PRODID:-//Kino Tuškanac//Filmski programi//HR
BEGIN:VEVENT
UID:0d4f38a0c9cfd7905fae7f8ccc76fc5b@kinotuskanac.hr
DTSTAMP:20260419T142115Z
DTSTART:20180223T210000
DTEND:20180223T230000
SUMMARY:Zmija u njedrima
LOCATION:Kino Tuškanac
DESCRIPTION:Cria cuervos, 1976 R: Carlos Saura
END:VEVENT
END:VCALENDAR