BEGIN:VCALENDAR
VERSION:2.0
PRODID:-//Kino Tuškanac//Filmski programi//HR
BEGIN:VEVENT
UID:dc5e0beb884f14d4201199c9ddef7895@kinotuskanac.hr
DTSTAMP:20260419T142115Z
DTSTART:20180224T190000
DTEND:20180224T210000
SUMMARY:Zmija u njedrima
LOCATION:Kino Tuškanac
DESCRIPTION:Cria cuervos, 1976 R: Carlos Saura
END:VEVENT
END:VCALENDAR