BEGIN:VCALENDAR
VERSION:2.0
PRODID:-//Kino Tuškanac//Filmski programi//HR
BEGIN:VEVENT
UID:0e4dfc7daa7ed66b72f9db56e446095a@kinotuskanac.hr
DTSTAMP:20260423T115753Z
DTSTART:20180228T190000
DTEND:20180228T210000
SUMMARY:Krvnik
LOCATION:Kino Tuškanac
DESCRIPTION:El verdugo, Španjolska, Italija, 1963 R: Luis García Berlanga
END:VEVENT
END:VCALENDAR