BEGIN:VCALENDAR
VERSION:2.0
PRODID:-//Kino Tuškanac//Filmski programi//HR
BEGIN:VEVENT
UID:5d574570f3d82b872157724001ed8aa9@kinotuskanac.hr
DTSTAMP:20260423T115858Z
DTSTART:20180301T210000
DTEND:20180301T230000
SUMMARY:Krvnik
LOCATION:Kino Tuškanac
DESCRIPTION:El verdugo, Španjolska, Italija, 1963 R: Luis García Berlanga
END:VEVENT
END:VCALENDAR