BEGIN:VCALENDAR
VERSION:2.0
PRODID:-//Kino Tuškanac//Filmski programi//HR
BEGIN:VEVENT
UID:b77f7fb62e6b9e1df2403160fad4b4cb@kinotuskanac.hr
DTSTAMP:20260421T035526Z
DTSTART:20041109T210000
DTEND:20041109T230000
SUMMARY:Adíos, amor
LOCATION:Kino Tuškanac
DESCRIPTION:1997 R: Sergio Catá
END:VEVENT
END:VCALENDAR