BEGIN:VCALENDAR
VERSION:2.0
PRODID:-//Kino Tuškanac//Filmski programi//HR
BEGIN:VEVENT
UID:bc4f45f0d88a93f1de8812bf36b763db@kinotuskanac.hr
DTSTAMP:20260421T024623Z
DTSTART:20180302T190000
DTEND:20180302T210000
SUMMARY:Svijet slave
LOCATION:Kino Tuškanac
DESCRIPTION:Härlig är jorden, Švedska, 1992 R: Roy Andersson
END:VEVENT
END:VCALENDAR