BEGIN:VCALENDAR
VERSION:2.0
PRODID:-//Kino Tuškanac//Filmski programi//HR
BEGIN:VEVENT
UID:a12fe97999c427d277ae8fef814eeb17@kinotuskanac.hr
DTSTAMP:20260421T012633Z
DTSTART:20180303T210000
DTEND:20180303T230000
SUMMARY:Svijet slave
LOCATION:Kino Tuškanac
DESCRIPTION:Härlig är jorden, Švedska, 1992 R: Roy Andersson
END:VEVENT
END:VCALENDAR