BEGIN:VCALENDAR
VERSION:2.0
PRODID:-//Kino Tuškanac//Filmski programi//HR
BEGIN:VEVENT
UID:23426813475a8f9372ecf72ea1682481@kinotuskanac.hr
DTSTAMP:20260421T093432Z
DTSTART:20180305T183000
DTEND:20180305T203000
SUMMARY:Giliap
LOCATION:Kino Tuškanac
DESCRIPTION:Švedska, 1975 R: Roy Andersson
END:VEVENT
END:VCALENDAR