BEGIN:VCALENDAR
VERSION:2.0
PRODID:-//Kino Tuškanac//Filmski programi//HR
BEGIN:VEVENT
UID:05317e818b216f0c38e23ce5959e1950@kinotuskanac.hr
DTSTAMP:20260421T093431Z
DTSTART:20180307T203000
DTEND:20180307T223000
SUMMARY:Giliap
LOCATION:Kino Tuškanac
DESCRIPTION:Švedska, 1975 R: Roy Andersson
END:VEVENT
END:VCALENDAR