BEGIN:VCALENDAR
VERSION:2.0
PRODID:-//Kino Tuškanac//Filmski programi//HR
BEGIN:VEVENT
UID:fb53315eb7370da1c563bb4b5000e965@kinotuskanac.hr
DTSTAMP:20260420T170248Z
DTSTART:20180308T210000
DTEND:20180308T230000
SUMMARY:Božja volja
LOCATION:Kino Tuškanac
DESCRIPTION:Švicarska, 2017 R: Petra Biondina Volpe
END:VEVENT
END:VCALENDAR