BEGIN:VCALENDAR
VERSION:2.0
PRODID:-//Kino Tuškanac//Filmski programi//HR
BEGIN:VEVENT
UID:bb1f407f64a91baf50c37597d6704c69@kinotuskanac.hr
DTSTAMP:20260419T225420Z
DTSTART:20180309T210000
DTEND:20180309T230000
SUMMARY:Lica
LOCATION:Kino Tuškanac
DESCRIPTION:Faces, SAD, 1968 R: John Cassavetes
END:VEVENT
END:VCALENDAR