BEGIN:VCALENDAR
VERSION:2.0
PRODID:-//Kino Tuškanac//Filmski programi//HR
BEGIN:VEVENT
UID:7908d86e545cc06911d59ecbb97e3920@kinotuskanac.hr
DTSTAMP:20260421T011946Z
DTSTART:20041116T190000
DTEND:20041116T210000
SUMMARY:El Conde inglés
LOCATION:Kino Tuškanac
DESCRIPTION:2001 R: Rubio, Lopez
END:VEVENT
END:VCALENDAR