BEGIN:VCALENDAR
VERSION:2.0
PRODID:-//Kino Tuškanac//Filmski programi//HR
BEGIN:VEVENT
UID:c01584146ec731af1956a0e132c41c7a@kinotuskanac.hr
DTSTAMP:20260420T230708Z
DTSTART:20041113T190000
DTEND:20041113T210000
SUMMARY:Siete cafés por semana
LOCATION:Kino Tuškanac
DESCRIPTION:1999 R: Juana Macías
END:VEVENT
END:VCALENDAR