BEGIN:VCALENDAR
VERSION:2.0
PRODID:-//Kino Tuškanac//Filmski programi//HR
BEGIN:VEVENT
UID:76860742abb739b8e9ed1c5aa26312db@kinotuskanac.hr
DTSTAMP:20260423T091515Z
DTSTART:20180328T190000
DTEND:20180328T210000
SUMMARY:Ženska recentna domaća animacija uz razgovor s autoricama
LOCATION:Kino Tuškanac
DESCRIPTION:
END:VEVENT
END:VCALENDAR