BEGIN:VCALENDAR
VERSION:2.0
PRODID:-//Kino Tuškanac//Filmski programi//HR
BEGIN:VEVENT
UID:2e279545dcc5435b4cddb8408a1a01d9@kinotuskanac.hr
DTSTAMP:20260421T133148Z
DTSTART:20180418T200000
DTEND:20180418T220000
SUMMARY:Ruska arka
LOCATION:Kino Tuškanac
DESCRIPTION:Russkij kovcheg, Rusija, Njemačka, Japan, Kanada, Finska, Danska, 2002 R: Aleksandr Sokurov
END:VEVENT
END:VCALENDAR