BEGIN:VCALENDAR
VERSION:2.0
PRODID:-//Kino Tuškanac//Filmski programi//HR
BEGIN:VEVENT
UID:1c29f7f5a3e1d53fef1e3d64b6d368af@kinotuskanac.hr
DTSTAMP:20260425T031347Z
DTSTART:20180420T210000
DTEND:20180420T230000
SUMMARY:W. R. Misterije organizma
LOCATION:Kino Tuškanac
DESCRIPTION:Jugoslavija, SR Njemačka, 1971 R: Dušan Makavejev
END:VEVENT
END:VCALENDAR