BEGIN:VCALENDAR
VERSION:2.0
PRODID:-//Kino Tuškanac//Filmski programi//HR
BEGIN:VEVENT
UID:57e5310c35df556acbc473dc58926f61@kinotuskanac.hr
DTSTAMP:20260419T141806Z
DTSTART:20180423T184500
DTEND:20180423T204500
SUMMARY:Šuma obješenih
LOCATION:Kino Tuškanac
DESCRIPTION:Padurea Spanzuratilor, Rumunjska, 1965 R: Liviu Ciulei
END:VEVENT
END:VCALENDAR