BEGIN:VCALENDAR
VERSION:2.0
PRODID:-//Kino Tuškanac//Filmski programi//HR
BEGIN:VEVENT
UID:b1398e20b001f2912cae27cc60c7b226@kinotuskanac.hr
DTSTAMP:20260423T161031Z
DTSTART:20180426T190000
DTEND:20180426T210000
SUMMARY:Kameno vjenčanje
LOCATION:Kino Tuškanac
DESCRIPTION:Nunta de piatra, Rumunjska, 1972 R: Dan Pita, Mircea Veroiu
END:VEVENT
END:VCALENDAR