BEGIN:VCALENDAR
VERSION:2.0
PRODID:-//Kino Tuškanac//Filmski programi//HR
BEGIN:VEVENT
UID:bdc5173b8e02b430b0a427454fe55ce7@kinotuskanac.hr
DTSTAMP:20260421T035314Z
DTSTART:20180427T190000
DTEND:20180427T210000
SUMMARY:Proba mikrofona
LOCATION:Kino Tuškanac
DESCRIPTION:Proba de microfon, Rumunjska, 1980 R: Mircea Daneliuc
END:VEVENT
END:VCALENDAR