BEGIN:VCALENDAR
VERSION:2.0
PRODID:-//Kino Tuškanac//Filmski programi//HR
BEGIN:VEVENT
UID:b20016ca670540b39cc795b21785d328@kinotuskanac.hr
DTSTAMP:20260422T141109Z
DTSTART:20050301T190000
DTEND:20050301T210000
SUMMARY:Pjesma o sivom golubu
LOCATION:Kino Tuškanac
DESCRIPTION:Pieseň o sivom holubovi, 1961 R: Stanislav Barabáš
END:VEVENT
END:VCALENDAR